BEGIN:VCALENDAR
VERSION:2.0
PRODID:-//Alemán, Sí - ECPv6.15.18//NONSGML v1.0//EN
CALSCALE:GREGORIAN
METHOD:PUBLISH
X-WR-CALNAME:Alemán, Sí
X-ORIGINAL-URL:https://campusde.educazone.es
X-WR-CALDESC:Eventos para Alemán, Sí
REFRESH-INTERVAL;VALUE=DURATION:PT1H
X-Robots-Tag:noindex
X-PUBLISHED-TTL:PT1H
BEGIN:VTIMEZONE
TZID:Europe/Madrid
BEGIN:DAYLIGHT
TZOFFSETFROM:+0100
TZOFFSETTO:+0200
TZNAME:CEST
DTSTART:20250330T010000
END:DAYLIGHT
BEGIN:STANDARD
TZOFFSETFROM:+0200
TZOFFSETTO:+0100
TZNAME:CET
DTSTART:20251026T010000
END:STANDARD
BEGIN:DAYLIGHT
TZOFFSETFROM:+0100
TZOFFSETTO:+0200
TZNAME:CEST
DTSTART:20260329T010000
END:DAYLIGHT
BEGIN:STANDARD
TZOFFSETFROM:+0200
TZOFFSETTO:+0100
TZNAME:CET
DTSTART:20261025T010000
END:STANDARD
BEGIN:DAYLIGHT
TZOFFSETFROM:+0100
TZOFFSETTO:+0200
TZNAME:CEST
DTSTART:20270328T010000
END:DAYLIGHT
BEGIN:STANDARD
TZOFFSETFROM:+0200
TZOFFSETTO:+0100
TZNAME:CET
DTSTART:20271031T010000
END:STANDARD
END:VTIMEZONE
BEGIN:VEVENT
DTSTART;TZID=Europe/Madrid:20260421T110000
DTEND;TZID=Europe/Madrid:20260421T120000
DTSTAMP:20260421T105045
CREATED:20260330T173131Z
LAST-MODIFIED:20260330T173131Z
UID:8552-1776769200-1776772800@campusde.educazone.es
SUMMARY:Clase con Nina
DESCRIPTION:
URL:https://campusde.educazone.es/evento/clase-con-nina-344/
END:VEVENT
BEGIN:VEVENT
DTSTART;TZID=Europe/Madrid:20260422T200000
DTEND;TZID=Europe/Madrid:20260422T210000
DTSTAMP:20260421T105045
CREATED:20260330T173246Z
LAST-MODIFIED:20260330T173246Z
UID:8554-1776888000-1776891600@campusde.educazone.es
SUMMARY:Clase con Nina
DESCRIPTION:
URL:https://campusde.educazone.es/evento/clase-con-nina-345/
END:VEVENT
BEGIN:VEVENT
DTSTART;TZID=Europe/Madrid:20260423T090000
DTEND;TZID=Europe/Madrid:20260423T100000
DTSTAMP:20260421T105045
CREATED:20260330T173400Z
LAST-MODIFIED:20260330T173400Z
UID:8556-1776934800-1776938400@campusde.educazone.es
SUMMARY:Clase con Nina
DESCRIPTION:
URL:https://campusde.educazone.es/evento/clase-con-nina-346/
END:VEVENT
BEGIN:VEVENT
DTSTART;TZID=Europe/Madrid:20260427T200000
DTEND;TZID=Europe/Madrid:20260427T210000
DTSTAMP:20260421T105045
CREATED:20260330T173500Z
LAST-MODIFIED:20260330T173500Z
UID:8558-1777320000-1777323600@campusde.educazone.es
SUMMARY:Clase con Nina
DESCRIPTION:
URL:https://campusde.educazone.es/evento/clase-con-nina-347/
END:VEVENT
BEGIN:VEVENT
DTSTART;TZID=Europe/Madrid:20260428T110000
DTEND;TZID=Europe/Madrid:20260428T120000
DTSTAMP:20260421T105045
CREATED:20260330T173623Z
LAST-MODIFIED:20260330T173623Z
UID:8560-1777374000-1777377600@campusde.educazone.es
SUMMARY:Clase con Nina
DESCRIPTION:
URL:https://campusde.educazone.es/evento/clase-con-nina-348/
END:VEVENT
BEGIN:VEVENT
DTSTART;TZID=Europe/Madrid:20260429T200000
DTEND;TZID=Europe/Madrid:20260429T210000
DTSTAMP:20260421T105045
CREATED:20260330T173724Z
LAST-MODIFIED:20260330T173724Z
UID:8562-1777492800-1777496400@campusde.educazone.es
SUMMARY:Clase con Nina
DESCRIPTION:
URL:https://campusde.educazone.es/evento/clase-con-nina-349/
END:VEVENT
BEGIN:VEVENT
DTSTART;TZID=Europe/Madrid:20260430T090000
DTEND;TZID=Europe/Madrid:20260430T100000
DTSTAMP:20260421T105045
CREATED:20260330T173814Z
LAST-MODIFIED:20260330T173814Z
UID:8564-1777539600-1777543200@campusde.educazone.es
SUMMARY:Clase con Nina
DESCRIPTION:
URL:https://campusde.educazone.es/evento/clase-con-nina-350/
END:VEVENT
END:VCALENDAR