BEGIN:VCALENDAR
VERSION:2.0
PRODID:-//Alemán, Sí - ECPv6.15.18//NONSGML v1.0//EN
CALSCALE:GREGORIAN
METHOD:PUBLISH
X-ORIGINAL-URL:https://campusde.educazone.es
X-WR-CALDESC:Eventos para Alemán, Sí
REFRESH-INTERVAL;VALUE=DURATION:PT1H
X-Robots-Tag:noindex
X-PUBLISHED-TTL:PT1H
BEGIN:VTIMEZONE
TZID:Europe/Madrid
BEGIN:DAYLIGHT
TZOFFSETFROM:+0100
TZOFFSETTO:+0200
TZNAME:CEST
DTSTART:20250330T010000
END:DAYLIGHT
BEGIN:STANDARD
TZOFFSETFROM:+0200
TZOFFSETTO:+0100
TZNAME:CET
DTSTART:20251026T010000
END:STANDARD
BEGIN:DAYLIGHT
TZOFFSETFROM:+0100
TZOFFSETTO:+0200
TZNAME:CEST
DTSTART:20260329T010000
END:DAYLIGHT
BEGIN:STANDARD
TZOFFSETFROM:+0200
TZOFFSETTO:+0100
TZNAME:CET
DTSTART:20261025T010000
END:STANDARD
BEGIN:DAYLIGHT
TZOFFSETFROM:+0100
TZOFFSETTO:+0200
TZNAME:CEST
DTSTART:20270328T010000
END:DAYLIGHT
BEGIN:STANDARD
TZOFFSETFROM:+0200
TZOFFSETTO:+0100
TZNAME:CET
DTSTART:20271031T010000
END:STANDARD
END:VTIMEZONE
BEGIN:VEVENT
DTSTART;TZID=Europe/Madrid:20260202T190000
DTEND;TZID=Europe/Madrid:20260202T200000
DTSTAMP:20260421T162110
CREATED:20260128T175715Z
LAST-MODIFIED:20260128T175715Z
UID:7422-1770058800-1770062400@campusde.educazone.es
SUMMARY:Clase con Nina
DESCRIPTION:
URL:https://campusde.educazone.es/evento/clase-con-nina-302/
END:VEVENT
BEGIN:VEVENT
DTSTART;TZID=Europe/Madrid:20260203T110000
DTEND;TZID=Europe/Madrid:20260203T120000
DTSTAMP:20260421T162110
CREATED:20260128T180301Z
LAST-MODIFIED:20260128T180301Z
UID:7424-1770116400-1770120000@campusde.educazone.es
SUMMARY:Clase con Nina
DESCRIPTION:
URL:https://campusde.educazone.es/evento/clase-con-nina-303/
END:VEVENT
BEGIN:VEVENT
DTSTART;TZID=Europe/Madrid:20260204T190000
DTEND;TZID=Europe/Madrid:20260204T200000
DTSTAMP:20260421T162110
CREATED:20260128T180515Z
LAST-MODIFIED:20260128T180515Z
UID:7426-1770231600-1770235200@campusde.educazone.es
SUMMARY:Clases con Nina
DESCRIPTION:
URL:https://campusde.educazone.es/evento/clases-con-nina-2/
END:VEVENT
BEGIN:VEVENT
DTSTART;TZID=Europe/Madrid:20260209T190000
DTEND;TZID=Europe/Madrid:20260209T200000
DTSTAMP:20260421T162110
CREATED:20260202T124512Z
LAST-MODIFIED:20260202T124512Z
UID:7473-1770663600-1770667200@campusde.educazone.es
SUMMARY:Clase con Nina
DESCRIPTION:
URL:https://campusde.educazone.es/evento/clase-con-nina-305/
END:VEVENT
BEGIN:VEVENT
DTSTART;TZID=Europe/Madrid:20260210T190000
DTEND;TZID=Europe/Madrid:20260210T200000
DTSTAMP:20260421T162110
CREATED:20260202T124719Z
LAST-MODIFIED:20260202T124719Z
UID:7475-1770750000-1770753600@campusde.educazone.es
SUMMARY:Clase con Nina
DESCRIPTION:
URL:https://campusde.educazone.es/evento/clase-con-nina-306/
END:VEVENT
BEGIN:VEVENT
DTSTART;TZID=Europe/Madrid:20260211T110000
DTEND;TZID=Europe/Madrid:20260211T120000
DTSTAMP:20260421T162110
CREATED:20260202T124824Z
LAST-MODIFIED:20260202T124824Z
UID:7477-1770807600-1770811200@campusde.educazone.es
SUMMARY:Clase con Nina
DESCRIPTION:
URL:https://campusde.educazone.es/evento/clase-con-nina-307/
END:VEVENT
BEGIN:VEVENT
DTSTART;TZID=Europe/Madrid:20260212T100000
DTEND;TZID=Europe/Madrid:20260212T110000
DTSTAMP:20260421T162110
CREATED:20260202T124951Z
LAST-MODIFIED:20260202T124951Z
UID:7479-1770890400-1770894000@campusde.educazone.es
SUMMARY:Clase con Nina
DESCRIPTION:
URL:https://campusde.educazone.es/evento/clase-con-nina-308/
END:VEVENT
BEGIN:VEVENT
DTSTART;TZID=Europe/Madrid:20260212T190000
DTEND;TZID=Europe/Madrid:20260212T200000
DTSTAMP:20260421T162110
CREATED:20260202T125105Z
LAST-MODIFIED:20260202T125105Z
UID:7481-1770922800-1770926400@campusde.educazone.es
SUMMARY:Clase con Nina
DESCRIPTION:
URL:https://campusde.educazone.es/evento/clase-con-nina-309/
END:VEVENT
BEGIN:VEVENT
DTSTART;TZID=Europe/Madrid:20260216T190000
DTEND;TZID=Europe/Madrid:20260216T200000
DTSTAMP:20260421T162110
CREATED:20260202T125240Z
LAST-MODIFIED:20260202T125240Z
UID:7483-1771268400-1771272000@campusde.educazone.es
SUMMARY:Clase con Nina
DESCRIPTION:
URL:https://campusde.educazone.es/evento/clase-con-nina-310/
END:VEVENT
BEGIN:VEVENT
DTSTART;TZID=Europe/Madrid:20260218T120000
DTEND;TZID=Europe/Madrid:20260218T130000
DTSTAMP:20260421T162110
CREATED:20260202T125410Z
LAST-MODIFIED:20260212T165332Z
UID:7486-1771416000-1771419600@campusde.educazone.es
SUMMARY:Clase con Nina
DESCRIPTION:
URL:https://campusde.educazone.es/evento/clase-con-nina-311/
END:VEVENT
BEGIN:VEVENT
DTSTART;TZID=Europe/Madrid:20260218T190000
DTEND;TZID=Europe/Madrid:20260218T200000
DTSTAMP:20260421T162110
CREATED:20260202T125508Z
LAST-MODIFIED:20260202T125508Z
UID:7488-1771441200-1771444800@campusde.educazone.es
SUMMARY:Clase con Nina
DESCRIPTION:
URL:https://campusde.educazone.es/evento/clase-con-nina-312/
END:VEVENT
BEGIN:VEVENT
DTSTART;TZID=Europe/Madrid:20260220T190000
DTEND;TZID=Europe/Madrid:20260220T200000
DTSTAMP:20260421T162110
CREATED:20260202T125610Z
LAST-MODIFIED:20260202T125610Z
UID:7490-1771614000-1771617600@campusde.educazone.es
SUMMARY:Clase con Nina
DESCRIPTION:
URL:https://campusde.educazone.es/evento/clase-con-nina-313/
END:VEVENT
BEGIN:VEVENT
DTSTART;TZID=Europe/Madrid:20260224T190000
DTEND;TZID=Europe/Madrid:20260224T200000
DTSTAMP:20260421T162110
CREATED:20260202T125721Z
LAST-MODIFIED:20260202T125721Z
UID:7492-1771959600-1771963200@campusde.educazone.es
SUMMARY:Clase con Nina
DESCRIPTION:
URL:https://campusde.educazone.es/evento/clase-con-nina-314/
END:VEVENT
BEGIN:VEVENT
DTSTART;TZID=Europe/Madrid:20260226T190000
DTEND;TZID=Europe/Madrid:20260226T200000
DTSTAMP:20260421T162110
CREATED:20260202T125924Z
LAST-MODIFIED:20260202T125924Z
UID:7496-1772132400-1772136000@campusde.educazone.es
SUMMARY:Clase con Nina
DESCRIPTION:
URL:https://campusde.educazone.es/evento/clase-con-nina-316/
END:VEVENT
BEGIN:VEVENT
DTSTART;TZID=Europe/Madrid:20260303T090000
DTEND;TZID=Europe/Madrid:20260303T100000
DTSTAMP:20260421T162110
CREATED:20260222T181201Z
LAST-MODIFIED:20260225T181512Z
UID:7773-1772528400-1772532000@campusde.educazone.es
SUMMARY:Clase con Nina
DESCRIPTION:
URL:https://campusde.educazone.es/evento/clase-con-nina-304/
END:VEVENT
BEGIN:VEVENT
DTSTART;TZID=Europe/Madrid:20260303T180000
DTEND;TZID=Europe/Madrid:20260303T190000
DTSTAMP:20260421T162110
CREATED:20260222T181319Z
LAST-MODIFIED:20260222T181319Z
UID:7775-1772560800-1772564400@campusde.educazone.es
SUMMARY:Clase con Nina
DESCRIPTION:
URL:https://campusde.educazone.es/evento/clase-con-nina-315/
END:VEVENT
BEGIN:VEVENT
DTSTART;TZID=Europe/Madrid:20260304T190000
DTEND;TZID=Europe/Madrid:20260304T200000
DTSTAMP:20260421T162110
CREATED:20260222T181428Z
LAST-MODIFIED:20260303T172649Z
UID:7779-1772650800-1772654400@campusde.educazone.es
SUMMARY:Clase con Nina
DESCRIPTION:
URL:https://campusde.educazone.es/evento/clase-con-nina-317/
END:VEVENT
BEGIN:VEVENT
DTSTART;TZID=Europe/Madrid:20260305T100000
DTEND;TZID=Europe/Madrid:20260305T110000
DTSTAMP:20260421T162110
CREATED:20260222T181612Z
LAST-MODIFIED:20260222T181612Z
UID:7781-1772704800-1772708400@campusde.educazone.es
SUMMARY:Clase con Nina
DESCRIPTION:
URL:https://campusde.educazone.es/evento/clase-con-nina-318/
END:VEVENT
BEGIN:VEVENT
DTSTART;TZID=Europe/Madrid:20260309T190000
DTEND;TZID=Europe/Madrid:20260309T200000
DTSTAMP:20260421T162110
CREATED:20260222T181734Z
LAST-MODIFIED:20260222T181734Z
UID:7784-1773082800-1773086400@campusde.educazone.es
SUMMARY:Clase con Nina
DESCRIPTION:
URL:https://campusde.educazone.es/evento/clase-con-nina-319/
END:VEVENT
BEGIN:VEVENT
DTSTART;TZID=Europe/Madrid:20260310T110000
DTEND;TZID=Europe/Madrid:20260310T120000
DTSTAMP:20260421T162110
CREATED:20260222T181920Z
LAST-MODIFIED:20260222T181920Z
UID:7786-1773140400-1773144000@campusde.educazone.es
SUMMARY:Clase con Nina
DESCRIPTION:
URL:https://campusde.educazone.es/evento/clase-con-nina-320/
END:VEVENT
BEGIN:VEVENT
DTSTART;TZID=Europe/Madrid:20260311T100000
DTEND;TZID=Europe/Madrid:20260311T110000
DTSTAMP:20260421T162110
CREATED:20260222T182047Z
LAST-MODIFIED:20260222T182859Z
UID:7788-1773223200-1773226800@campusde.educazone.es
SUMMARY:Clase con Nina
DESCRIPTION:
URL:https://campusde.educazone.es/evento/clase-con-nina-321/
END:VEVENT
BEGIN:VEVENT
DTSTART;TZID=Europe/Madrid:20260311T190000
DTEND;TZID=Europe/Madrid:20260311T200000
DTSTAMP:20260421T162110
CREATED:20260222T193602Z
LAST-MODIFIED:20260222T193602Z
UID:7793-1773255600-1773259200@campusde.educazone.es
SUMMARY:Clase con Nina
DESCRIPTION:
URL:https://campusde.educazone.es/evento/clase-con-nina-322/
END:VEVENT
BEGIN:VEVENT
DTSTART;TZID=Europe/Madrid:20260312T100000
DTEND;TZID=Europe/Madrid:20260312T110000
DTSTAMP:20260421T162110
CREATED:20260222T193732Z
LAST-MODIFIED:20260222T193732Z
UID:7795-1773309600-1773313200@campusde.educazone.es
SUMMARY:Clase con Nina
DESCRIPTION:
URL:https://campusde.educazone.es/evento/clase-con-nina-323/
END:VEVENT
BEGIN:VEVENT
DTSTART;TZID=Europe/Madrid:20260317T190000
DTEND;TZID=Europe/Madrid:20260317T200000
DTSTAMP:20260421T162110
CREATED:20260222T193913Z
LAST-MODIFIED:20260222T193913Z
UID:7797-1773774000-1773777600@campusde.educazone.es
SUMMARY:Clase con Nina
DESCRIPTION:
URL:https://campusde.educazone.es/evento/clase-con-nina-324/
END:VEVENT
BEGIN:VEVENT
DTSTART;TZID=Europe/Madrid:20260318T100000
DTEND;TZID=Europe/Madrid:20260318T110000
DTSTAMP:20260421T162110
CREATED:20260222T194037Z
LAST-MODIFIED:20260222T194037Z
UID:7800-1773828000-1773831600@campusde.educazone.es
SUMMARY:Clase con Nina
DESCRIPTION:
URL:https://campusde.educazone.es/evento/clase-con-nina-325/
END:VEVENT
BEGIN:VEVENT
DTSTART;TZID=Europe/Madrid:20260318T190000
DTEND;TZID=Europe/Madrid:20260318T200000
DTSTAMP:20260421T162110
CREATED:20260222T194142Z
LAST-MODIFIED:20260222T194142Z
UID:7802-1773860400-1773864000@campusde.educazone.es
SUMMARY:Clase con Nina
DESCRIPTION:
URL:https://campusde.educazone.es/evento/clase-con-nina-326/
END:VEVENT
BEGIN:VEVENT
DTSTART;TZID=Europe/Madrid:20260319T100000
DTEND;TZID=Europe/Madrid:20260319T110000
DTSTAMP:20260421T162110
CREATED:20260222T194324Z
LAST-MODIFIED:20260222T194324Z
UID:7804-1773914400-1773918000@campusde.educazone.es
SUMMARY:Clase con Nina
DESCRIPTION:
URL:https://campusde.educazone.es/evento/clase-con-nina-327/
END:VEVENT
BEGIN:VEVENT
DTSTART;TZID=Europe/Madrid:20260323T190000
DTEND;TZID=Europe/Madrid:20260323T200000
DTSTAMP:20260421T162110
CREATED:20260222T194956Z
LAST-MODIFIED:20260222T194956Z
UID:7806-1774292400-1774296000@campusde.educazone.es
SUMMARY:Clase con Nina
DESCRIPTION:
URL:https://campusde.educazone.es/evento/clase-con-nina-328/
END:VEVENT
BEGIN:VEVENT
DTSTART;TZID=Europe/Madrid:20260324T110000
DTEND;TZID=Europe/Madrid:20260324T120000
DTSTAMP:20260421T162110
CREATED:20260222T195116Z
LAST-MODIFIED:20260222T195116Z
UID:7808-1774350000-1774353600@campusde.educazone.es
SUMMARY:Clase con Nina
DESCRIPTION:
URL:https://campusde.educazone.es/evento/clase-con-nina-329/
END:VEVENT
BEGIN:VEVENT
DTSTART;TZID=Europe/Madrid:20260325T190000
DTEND;TZID=Europe/Madrid:20260325T200000
DTSTAMP:20260421T162110
CREATED:20260222T195223Z
LAST-MODIFIED:20260222T195223Z
UID:7810-1774465200-1774468800@campusde.educazone.es
SUMMARY:Clase con Nina
DESCRIPTION:
URL:https://campusde.educazone.es/evento/clase-con-nina-330/
END:VEVENT
END:VCALENDAR