BEGIN:VCALENDAR
VERSION:2.0
PRODID:-//Alemán, Sí - ECPv6.15.18//NONSGML v1.0//EN
CALSCALE:GREGORIAN
METHOD:PUBLISH
X-ORIGINAL-URL:https://campusde.educazone.es
X-WR-CALDESC:Eventos para Alemán, Sí
REFRESH-INTERVAL;VALUE=DURATION:PT1H
X-Robots-Tag:noindex
X-PUBLISHED-TTL:PT1H
BEGIN:VTIMEZONE
TZID:Europe/Madrid
BEGIN:DAYLIGHT
TZOFFSETFROM:+0100
TZOFFSETTO:+0200
TZNAME:CEST
DTSTART:20250330T010000
END:DAYLIGHT
BEGIN:STANDARD
TZOFFSETFROM:+0200
TZOFFSETTO:+0100
TZNAME:CET
DTSTART:20251026T010000
END:STANDARD
BEGIN:DAYLIGHT
TZOFFSETFROM:+0100
TZOFFSETTO:+0200
TZNAME:CEST
DTSTART:20260329T010000
END:DAYLIGHT
BEGIN:STANDARD
TZOFFSETFROM:+0200
TZOFFSETTO:+0100
TZNAME:CET
DTSTART:20261025T010000
END:STANDARD
BEGIN:DAYLIGHT
TZOFFSETFROM:+0100
TZOFFSETTO:+0200
TZNAME:CEST
DTSTART:20270328T010000
END:DAYLIGHT
BEGIN:STANDARD
TZOFFSETFROM:+0200
TZOFFSETTO:+0100
TZNAME:CET
DTSTART:20271031T010000
END:STANDARD
END:VTIMEZONE
BEGIN:VEVENT
DTSTART;TZID=Europe/Madrid:20260202T190000
DTEND;TZID=Europe/Madrid:20260202T200000
DTSTAMP:20260421T145502
CREATED:20260128T175715Z
LAST-MODIFIED:20260128T175715Z
UID:7422-1770058800-1770062400@campusde.educazone.es
SUMMARY:Clase con Nina
DESCRIPTION:
URL:https://campusde.educazone.es/evento/clase-con-nina-302/
END:VEVENT
BEGIN:VEVENT
DTSTART;TZID=Europe/Madrid:20260203T110000
DTEND;TZID=Europe/Madrid:20260203T120000
DTSTAMP:20260421T145502
CREATED:20260128T180301Z
LAST-MODIFIED:20260128T180301Z
UID:7424-1770116400-1770120000@campusde.educazone.es
SUMMARY:Clase con Nina
DESCRIPTION:
URL:https://campusde.educazone.es/evento/clase-con-nina-303/
END:VEVENT
BEGIN:VEVENT
DTSTART;TZID=Europe/Madrid:20260204T190000
DTEND;TZID=Europe/Madrid:20260204T200000
DTSTAMP:20260421T145502
CREATED:20260128T180515Z
LAST-MODIFIED:20260128T180515Z
UID:7426-1770231600-1770235200@campusde.educazone.es
SUMMARY:Clases con Nina
DESCRIPTION:
URL:https://campusde.educazone.es/evento/clases-con-nina-2/
END:VEVENT
BEGIN:VEVENT
DTSTART;TZID=Europe/Madrid:20260209T190000
DTEND;TZID=Europe/Madrid:20260209T200000
DTSTAMP:20260421T145502
CREATED:20260202T124512Z
LAST-MODIFIED:20260202T124512Z
UID:7473-1770663600-1770667200@campusde.educazone.es
SUMMARY:Clase con Nina
DESCRIPTION:
URL:https://campusde.educazone.es/evento/clase-con-nina-305/
END:VEVENT
BEGIN:VEVENT
DTSTART;TZID=Europe/Madrid:20260210T190000
DTEND;TZID=Europe/Madrid:20260210T200000
DTSTAMP:20260421T145502
CREATED:20260202T124719Z
LAST-MODIFIED:20260202T124719Z
UID:7475-1770750000-1770753600@campusde.educazone.es
SUMMARY:Clase con Nina
DESCRIPTION:
URL:https://campusde.educazone.es/evento/clase-con-nina-306/
END:VEVENT
BEGIN:VEVENT
DTSTART;TZID=Europe/Madrid:20260211T110000
DTEND;TZID=Europe/Madrid:20260211T120000
DTSTAMP:20260421T145502
CREATED:20260202T124824Z
LAST-MODIFIED:20260202T124824Z
UID:7477-1770807600-1770811200@campusde.educazone.es
SUMMARY:Clase con Nina
DESCRIPTION:
URL:https://campusde.educazone.es/evento/clase-con-nina-307/
END:VEVENT
BEGIN:VEVENT
DTSTART;TZID=Europe/Madrid:20260212T100000
DTEND;TZID=Europe/Madrid:20260212T110000
DTSTAMP:20260421T145502
CREATED:20260202T124951Z
LAST-MODIFIED:20260202T124951Z
UID:7479-1770890400-1770894000@campusde.educazone.es
SUMMARY:Clase con Nina
DESCRIPTION:
URL:https://campusde.educazone.es/evento/clase-con-nina-308/
END:VEVENT
BEGIN:VEVENT
DTSTART;TZID=Europe/Madrid:20260212T190000
DTEND;TZID=Europe/Madrid:20260212T200000
DTSTAMP:20260421T145502
CREATED:20260202T125105Z
LAST-MODIFIED:20260202T125105Z
UID:7481-1770922800-1770926400@campusde.educazone.es
SUMMARY:Clase con Nina
DESCRIPTION:
URL:https://campusde.educazone.es/evento/clase-con-nina-309/
END:VEVENT
BEGIN:VEVENT
DTSTART;TZID=Europe/Madrid:20260216T190000
DTEND;TZID=Europe/Madrid:20260216T200000
DTSTAMP:20260421T145502
CREATED:20260202T125240Z
LAST-MODIFIED:20260202T125240Z
UID:7483-1771268400-1771272000@campusde.educazone.es
SUMMARY:Clase con Nina
DESCRIPTION:
URL:https://campusde.educazone.es/evento/clase-con-nina-310/
END:VEVENT
BEGIN:VEVENT
DTSTART;TZID=Europe/Madrid:20260218T120000
DTEND;TZID=Europe/Madrid:20260218T130000
DTSTAMP:20260421T145502
CREATED:20260202T125410Z
LAST-MODIFIED:20260212T165332Z
UID:7486-1771416000-1771419600@campusde.educazone.es
SUMMARY:Clase con Nina
DESCRIPTION:
URL:https://campusde.educazone.es/evento/clase-con-nina-311/
END:VEVENT
BEGIN:VEVENT
DTSTART;TZID=Europe/Madrid:20260218T190000
DTEND;TZID=Europe/Madrid:20260218T200000
DTSTAMP:20260421T145502
CREATED:20260202T125508Z
LAST-MODIFIED:20260202T125508Z
UID:7488-1771441200-1771444800@campusde.educazone.es
SUMMARY:Clase con Nina
DESCRIPTION:
URL:https://campusde.educazone.es/evento/clase-con-nina-312/
END:VEVENT
BEGIN:VEVENT
DTSTART;TZID=Europe/Madrid:20260220T190000
DTEND;TZID=Europe/Madrid:20260220T200000
DTSTAMP:20260421T145502
CREATED:20260202T125610Z
LAST-MODIFIED:20260202T125610Z
UID:7490-1771614000-1771617600@campusde.educazone.es
SUMMARY:Clase con Nina
DESCRIPTION:
URL:https://campusde.educazone.es/evento/clase-con-nina-313/
END:VEVENT
BEGIN:VEVENT
DTSTART;TZID=Europe/Madrid:20260224T190000
DTEND;TZID=Europe/Madrid:20260224T200000
DTSTAMP:20260421T145502
CREATED:20260202T125721Z
LAST-MODIFIED:20260202T125721Z
UID:7492-1771959600-1771963200@campusde.educazone.es
SUMMARY:Clase con Nina
DESCRIPTION:
URL:https://campusde.educazone.es/evento/clase-con-nina-314/
END:VEVENT
BEGIN:VEVENT
DTSTART;TZID=Europe/Madrid:20260226T190000
DTEND;TZID=Europe/Madrid:20260226T200000
DTSTAMP:20260421T145502
CREATED:20260202T125924Z
LAST-MODIFIED:20260202T125924Z
UID:7496-1772132400-1772136000@campusde.educazone.es
SUMMARY:Clase con Nina
DESCRIPTION:
URL:https://campusde.educazone.es/evento/clase-con-nina-316/
END:VEVENT
END:VCALENDAR